BEGIN:VCALENDAR
VERSION:2.0
PRODID:-//Squarespace Inc/Squarespace 6//v6//EN
BEGIN:VEVENT
UID:5c928e058165f51d3655a906@squarespace.com
DTSTAMP:20190402T215614Z
DTSTART:20190409T150000Z
DTEND:20190409T160000Z
SUMMARY:Registration Desk Open
END:VEVENT
END:VCALENDAR
