BEGIN:VCALENDAR
VERSION:2.0
PRODID:-//Squarespace Inc/Squarespace 6//v6//EN
BEGIN:VEVENT
UID:5c93a12ae4966bb6d556b6d7@squarespace.com
DTSTAMP:20190607T070904Z
DTSTART:20190409T180000Z
DTEND:20190409T193000Z
SUMMARY:Operationalizing Bridging: Building a Bigger "We"
END:VEVENT
END:VCALENDAR
