BEGIN:VCALENDAR
VERSION:2.0
PRODID:-//Squarespace Inc/Squarespace 6//v6//EN
BEGIN:VEVENT
UID:5c97f4059140b79a9b3dbcfd@squarespace.com
DTSTAMP:20190404T053326Z
DTSTART:20190409T153000Z
DTEND:20190409T160000Z
SUMMARY:Omi Wellness Space: Meditation and Yoga
END:VEVENT
END:VCALENDAR
