BEGIN:VCALENDAR
VERSION:2.0
PRODID:-//Squarespace Inc/Squarespace 6//v6//EN
BEGIN:VEVENT
UID:5c8fa0d64785d35a3b4e35f3@squarespace.com
DTSTAMP:20190627T091010Z
DTSTART:20190409T161500Z
DTEND:20190409T163000Z
SUMMARY:Building Belonging in a Time of Othering
END:VEVENT
END:VCALENDAR
