BEGIN:VCALENDAR
VERSION:2.0
PRODID:-//Squarespace Inc/Squarespace 6//v6//EN
BEGIN:VEVENT
UID:5c9285f7ee6eb03e6ff8849f@squarespace.com
DTSTAMP:20190322T160651Z
DTSTART:20190409T150000Z
DTEND:20190409T160000Z
SUMMARY:Continental Breakfast
END:VEVENT
END:VCALENDAR
