BEGIN:VCALENDAR
VERSION:2.0
PRODID:-//Squarespace Inc/Squarespace 6//v6//EN
BEGIN:VEVENT
UID:5c90f963ee6eb06073bb1ff5@squarespace.com
DTSTAMP:20190329T020536Z
DTSTART:20190408T231500Z
DTEND:20190408T233000Z
SUMMARY:Widening the Playing Field:  From Athlete to Activist
END:VEVENT
END:VCALENDAR
