BEGIN:VCALENDAR
VERSION:2.0
PRODID:-//Squarespace Inc/Squarespace 6//v6//EN
BEGIN:VEVENT
UID:5c8fc88d4e17b6218faa3c70@squarespace.com
DTSTAMP:20190405T044637Z
DTSTART:20190408T213000Z
DTEND:20190408T220000Z
SUMMARY:Disability and Belonging
END:VEVENT
END:VCALENDAR
