BEGIN:VCALENDAR
VERSION:2.0
PRODID:-//Squarespace Inc/Squarespace 6//v6//EN
BEGIN:VEVENT
UID:5c8fce51652dea13b994ea9d@squarespace.com
DTSTAMP:20190405T050458Z
DTSTART:20190408T234500Z
DTEND:20190409T010000Z
SUMMARY:Making Belonging: Culturemaker Panel
END:VEVENT
END:VCALENDAR
