BEGIN:VCALENDAR
VERSION:2.0
PRODID:-//Squarespace Inc/Squarespace 6//v6//EN
BEGIN:VEVENT
UID:5c8fc95ba4222f4257853524@squarespace.com
DTSTAMP:20190322T163436Z
DTSTART:20190408T220000Z
DTEND:20190408T223000Z
SUMMARY:Know Respect\, with Supaman 
END:VEVENT
END:VCALENDAR
