BEGIN:VCALENDAR
VERSION:2.0
PRODID:-//Squarespace Inc/Squarespace 6//v6//EN
BEGIN:VEVENT
UID:5c8fc9769b747a3fd81c2e59@squarespace.com
DTSTAMP:20190329T020430Z
DTSTART:20190408T223000Z
DTEND:20190408T231000Z
SUMMARY:Keynote by Rachel Kaadzi Ghansah 
END:VEVENT
END:VCALENDAR
