BEGIN:VCALENDAR
VERSION:2.0
PRODID:-//Squarespace Inc/Squarespace 6//v6//EN
BEGIN:VEVENT
UID:5c9a93ca419202017086f3bf@squarespace.com
DTSTAMP:20190405T044814Z
DTSTART:20190408T233000Z
DTEND:20190408T234500Z
SUMMARY:Egg Drop Soup
END:VEVENT
END:VCALENDAR
