BEGIN:VCALENDAR
VERSION:2.0
PRODID:-//Squarespace Inc/Squarespace 6//v6//EN
BEGIN:VEVENT
UID:5ca4b90feef1a1feefa6d29c@squarespace.com
DTSTAMP:20190403T134655Z
DTSTART:20190409T010000Z
DTEND:20190409T013000Z
SUMMARY:Book Signing: Michael Bennett
END:VEVENT
END:VCALENDAR
