BEGIN:VCALENDAR
VERSION:2.0
PRODID:-//Squarespace Inc/Squarespace 6//v6//EN
BEGIN:VEVENT
UID:5c8fa425971a1808b4989aed@squarespace.com
DTSTAMP:20190322T163923Z
DTSTART:20190409T164500Z
DTEND:20190409T174500Z
SUMMARY:Authoritarianism Rising: The Threat to Democracy and Democracy
END:VEVENT
END:VCALENDAR
